BEGIN:VCALENDAR
VERSION:2.0
PRODID:-//Legal Marketing Professionals - ECPv6.15.20//NONSGML v1.0//EN
CALSCALE:GREGORIAN
METHOD:PUBLISH
X-WR-CALNAME:Legal Marketing Professionals
X-ORIGINAL-URL:https://www.legalmarketingprofessionals.com
X-WR-CALDESC:Veranstaltungen für Legal Marketing Professionals
REFRESH-INTERVAL;VALUE=DURATION:PT1H
X-Robots-Tag:noindex
X-PUBLISHED-TTL:PT1H
BEGIN:VTIMEZONE
TZID:Europe/Vienna
BEGIN:DAYLIGHT
TZOFFSETFROM:+0100
TZOFFSETTO:+0200
TZNAME:CEST
DTSTART:20250330T010000
END:DAYLIGHT
BEGIN:STANDARD
TZOFFSETFROM:+0200
TZOFFSETTO:+0100
TZNAME:CET
DTSTART:20251026T010000
END:STANDARD
BEGIN:DAYLIGHT
TZOFFSETFROM:+0100
TZOFFSETTO:+0200
TZNAME:CEST
DTSTART:20260329T010000
END:DAYLIGHT
BEGIN:STANDARD
TZOFFSETFROM:+0200
TZOFFSETTO:+0100
TZNAME:CET
DTSTART:20261025T010000
END:STANDARD
BEGIN:DAYLIGHT
TZOFFSETFROM:+0100
TZOFFSETTO:+0200
TZNAME:CEST
DTSTART:20270328T010000
END:DAYLIGHT
BEGIN:STANDARD
TZOFFSETFROM:+0200
TZOFFSETTO:+0100
TZNAME:CET
DTSTART:20271031T010000
END:STANDARD
END:VTIMEZONE
BEGIN:VEVENT
DTSTART;TZID=Europe/Vienna:20260213T083000
DTEND;TZID=Europe/Vienna:20260213T103000
DTSTAMP:20260420T173330
CREATED:20260116T073727Z
LAST-MODIFIED:20260119T124409Z
UID:5160-1770971400-1770978600@www.legalmarketingprofessionals.com
SUMMARY:LMP Breakfast Vienna – Key Insights Straight from the Source: How to Chambers! 
DESCRIPTION:📅 Date: Friday\, 13 February 2026\n🕣 Time: 8:30–10:30 a.m.\n📍 Location: Marco Simonis\, Dominikanerbastei 10\, Vienna \nREGISTER HERE! \nWhat truly makes a Chambers submission stand out in an increasingly competitive rankings process?\nHow can law firms best support the research team – and which common mistakes should be avoided? \nThese and many more questions will be explored at our upcoming LMP Breakfast in Vienna\, where we are delighted to welcome two leading experts from Chambers: Alexandra Rinner\, Head of Germany\, and Christian Clare\, Austria Research Manager\, who know exactly what makes the difference between a good submission and an excellent one. \nOver coffee and breakfast\, they will share practical insights drawn directly from their hands-on experience\, including: \n🔹 What ‘s new in Chambers for 2026?\n🔹 Strong submissions for Chambers – how?\n🔹 The key dos and don’ts from a researcher’s perspective\n🔹 Best practices for structuring submissions\, selecting referees and preparing for interviews \nThe event offers an excellent opportunity to exchange experiences with peers in a relaxed atmosphere and to gain clear\, actionable guidance for your next Chambers submission. \nTogether with our cooperation partner\, Die Presse\, represented by Clemens Merkle\, we very much look forward to welcoming you to an inspiring and informative morning in Vienna! ☕🥐
URL:https://www.legalmarketingprofessionals.com/event/lmp-breakfast-vienna-key-insights-straight-from-the-source-how-to-chambers/
LOCATION:Marco Simonis\, Dominikanerbastei 10/4\, Innere Stadt\, Wien\, 1010\, Österreich
ATTACH;FMTTYPE=image/png:https://www.legalmarketingprofessionals.com/wp-content/uploads/2026/01/LMP-Wien-Chambers-2-26-Event.png
ORGANIZER;CN="LMP Austria":MAILTO:events@legalmarketingprofessionals.com
END:VEVENT
BEGIN:VEVENT
DTSTART;TZID=Europe/Vienna:20260217T083000
DTEND;TZID=Europe/Vienna:20260217T123000
DTSTAMP:20260420T173330
CREATED:20260116T074419Z
LAST-MODIFIED:20260119T124447Z
UID:5166-1771317000-1771331400@www.legalmarketingprofessionals.com
SUMMARY:LMP Breakfast in Wien – Top JUVE Rankings für Anwält:innen
DESCRIPTION:NEU bei den LMPs: LAWYERS ONLY\nErstmals richtet sich das LMP Legal Marketing Breakfast gezielt an Anwältinnen und Anwälte\, die aus erster Hand erfahren möchten\, wie erfolgreiche Rankings tatsächlich entstehen – praxisnah\, konkret und direkt von der Quelle. \n📅 Dienstag\, 17. Februar 2026\n🕣 08:30–10:30 Uhr\n📍 Marco Simonis\, Dominikanerbastei 10\, 1010 Wien \nHIER ANMELDEN! \nEine starke Platzierung in den JUVE-Rankings ist auch 2026 ein entscheidender Faktor für Reputation\, Marktpositionierung und Mandant:innenvertrauen.\nDoch worauf kommt es bei einer erfolgreichen JUVE-Submission wirklich an? \nWir freuen uns sehr\, am Faschingsdienstag Jörn Poppelbaum\, Geschäftsführer des JUVE Verlag für juristische Information GmbH\, bei unserem LMP Breakfast begrüßen zu dürfen. \nBei Kaffee und Faschingskrapfen gibt er exklusive Einblicke in die aktuellen Entwicklungen bei JUVE und zeigt auf\, wie Kanzleien ihre Submission strategisch und überzeugend gestalten können: \n👉 Welche Inhalte sind für die Rankings wirklich ausschlaggebend?\n👉 Welche Fehler sollten unbedingt vermieden werden?\n👉 Was macht 2026 den entscheidenden Unterschied? \nNutzen Sie die Gelegenheit\, wertvolles Insiderwissen aus erster Hand zu erhalten und sich in entspannter Atmosphäre mit Kolleg:innen aus dem Rechtsmarkt auszutauschen. \nGemeinsam mit unserem Kooperationspartner Die Presse\, vertreten durch Clemens Merkle\, freuen wir uns auf einen inspirierenden Morgen und einen anregenden Dialog.
URL:https://www.legalmarketingprofessionals.com/event/lmp-breakfast-in-wien-top-juve-rankings-fuer-anwaeltinnen/
LOCATION:Marco Simonis\, Dominikanerbastei 10/4\, Innere Stadt\, Wien\, 1010\, Österreich
ATTACH;FMTTYPE=image/png:https://www.legalmarketingprofessionals.com/wp-content/uploads/2026/01/LMP-AT-JUVE-170226.png
ORGANIZER;CN="LMP Austria":MAILTO:events@legalmarketingprofessionals.com
END:VEVENT
END:VCALENDAR