BEGIN:VCALENDAR
VERSION:2.0
PRODID:-//Legal Marketing Professionals - ECPv6.15.20//NONSGML v1.0//EN
CALSCALE:GREGORIAN
METHOD:PUBLISH
X-WR-CALNAME:Legal Marketing Professionals
X-ORIGINAL-URL:https://www.legalmarketingprofessionals.com
X-WR-CALDESC:Veranstaltungen für Legal Marketing Professionals
REFRESH-INTERVAL;VALUE=DURATION:PT1H
X-Robots-Tag:noindex
X-PUBLISHED-TTL:PT1H
BEGIN:VTIMEZONE
TZID:Europe/Vienna
BEGIN:DAYLIGHT
TZOFFSETFROM:+0100
TZOFFSETTO:+0200
TZNAME:CEST
DTSTART:20240331T010000
END:DAYLIGHT
BEGIN:STANDARD
TZOFFSETFROM:+0200
TZOFFSETTO:+0100
TZNAME:CET
DTSTART:20241027T010000
END:STANDARD
BEGIN:DAYLIGHT
TZOFFSETFROM:+0100
TZOFFSETTO:+0200
TZNAME:CEST
DTSTART:20250330T010000
END:DAYLIGHT
BEGIN:STANDARD
TZOFFSETFROM:+0200
TZOFFSETTO:+0100
TZNAME:CET
DTSTART:20251026T010000
END:STANDARD
BEGIN:DAYLIGHT
TZOFFSETFROM:+0100
TZOFFSETTO:+0200
TZNAME:CEST
DTSTART:20260329T010000
END:DAYLIGHT
BEGIN:STANDARD
TZOFFSETFROM:+0200
TZOFFSETTO:+0100
TZNAME:CET
DTSTART:20261025T010000
END:STANDARD
END:VTIMEZONE
BEGIN:VEVENT
DTSTART;TZID=Europe/Vienna:20251113T083000
DTEND;TZID=Europe/Vienna:20251113T103000
DTSTAMP:20260420T223318
CREATED:20251030T100933Z
LAST-MODIFIED:20251030T101951Z
UID:5088-1763022600-1763029800@www.legalmarketingprofessionals.com
SUMMARY:LMP Breakfast Vienna – Power Up Your Business Development – Smart Data & Processes!
DESCRIPTION:📣 LMP-Breakfast Vienna\nPower Up Your Business Development – Smart Data & Processes! \n📅 Date:  13.11.2025\n🕣 Time: 8:30-10:30 Uhr\n📍 Location: Die Presse\, Hainburger Straße 33\n👉 Registration: HERE! \nData-driven BD and marketing is no longer a buzzword — it’s a true competitive advantage. But how can law firms capture\, structure\, and leverage relevant BD data effectively? Which processes and tools actually make a difference in practice? \nOne thing is clear: success in rankings\, submissions\, and pitches will always start with smart data and great processes. \nBut which data really matter? \n📌 Which teams or roles are typically involved in managing BD and marketing data?\n📌 Who should collect them — and when?\n📌 How can firms ensure that this data stays accurate and up to date?\n📌 And which tools and processes truly make an impact? \nWe are delighted to welcome Jelena Bošnjak\, Head of Business Development\, Marketing & Communications at CMS\, as our guest speaker. In this session\, she will share valuable insights into how law firms can lay the groundwork for successful\, data-driven BD and marketing — from establishing systematic data collection to building central access points and ensuring consistent data quality across teams. With a sprinkle of enthusiasm and self-motivation. \nJoin us for a delightful breakfast and the grand season finale of our Legal Marketing Professionals Round at the Presse Premises\, together with Clemens Merkle. \n▪️-▪️-▪️ \nThis event is exclusively aimed at staff working in the areas of legal marketing and business development at law firms\, as well as lawyers with a particular interest in marketing. \nThe number of participants is limited\, so register now to secure your place! ✅
URL:https://www.legalmarketingprofessionals.com/event/lmp-breakfast-vienna-power-up-your-business-development-smart-data-processes/
LOCATION:Über uns\, Hainburger Straße 33\, Wien\, 1030\, Österreich
ATTACH;FMTTYPE=image/png:https://www.legalmarketingprofessionals.com/wp-content/uploads/2025/10/LMP-Vienna-131125-Smart-Data.png
END:VEVENT
END:VCALENDAR