BEGIN:VCALENDAR
VERSION:2.0
PRODID:-//Legal Marketing Professionals - ECPv6.15.20//NONSGML v1.0//EN
CALSCALE:GREGORIAN
METHOD:PUBLISH
X-WR-CALNAME:Legal Marketing Professionals
X-ORIGINAL-URL:https://www.legalmarketingprofessionals.com
X-WR-CALDESC:Veranstaltungen für Legal Marketing Professionals
REFRESH-INTERVAL;VALUE=DURATION:PT1H
X-Robots-Tag:noindex
X-PUBLISHED-TTL:PT1H
BEGIN:VTIMEZONE
TZID:Europe/Vienna
BEGIN:DAYLIGHT
TZOFFSETFROM:+0100
TZOFFSETTO:+0200
TZNAME:CEST
DTSTART:20230326T010000
END:DAYLIGHT
BEGIN:STANDARD
TZOFFSETFROM:+0200
TZOFFSETTO:+0100
TZNAME:CET
DTSTART:20231029T010000
END:STANDARD
BEGIN:DAYLIGHT
TZOFFSETFROM:+0100
TZOFFSETTO:+0200
TZNAME:CEST
DTSTART:20240331T010000
END:DAYLIGHT
BEGIN:STANDARD
TZOFFSETFROM:+0200
TZOFFSETTO:+0100
TZNAME:CET
DTSTART:20241027T010000
END:STANDARD
BEGIN:DAYLIGHT
TZOFFSETFROM:+0100
TZOFFSETTO:+0200
TZNAME:CEST
DTSTART:20250330T010000
END:DAYLIGHT
BEGIN:STANDARD
TZOFFSETFROM:+0200
TZOFFSETTO:+0100
TZNAME:CET
DTSTART:20251026T010000
END:STANDARD
END:VTIMEZONE
BEGIN:VEVENT
DTSTART;TZID=Europe/Vienna:20240411T083000
DTEND;TZID=Europe/Vienna:20240411T103000
DTSTAMP:20260422T040945
CREATED:20240206T132243Z
LAST-MODIFIED:20240319T090451Z
UID:1291-1712824200-1712831400@www.legalmarketingprofessionals.com
SUMMARY:LMP Breakfast Wien - Anwälte on Air: Podcasts als Werkzeug für innovative Kanzleien
DESCRIPTION:Hier anmelden!\n			\n				\n				\n				\n				\n				Anwälte On Air: Podcasts als Werkzeug für innovative Kanzleien \nIn einer Zeit\, in der digitale Kommunikation immer wichtiger wird\, ist es entscheidend\, innovative Wege zu finden\, um mit potenziellen Mandanten in Kontakt zu treten und sie zu informieren. Podcasts ermöglichen es Fachwissen zu präsentieren\, Einblicke in aktuelle Rechtsfragen zu geben und die Kanzlei als kompetenten Ansprechpartner zu positionieren.  \nFür das Legal Marketing Breakfast am 11. April 2024 haben wir einen besonderen Ort gewählt: die frisch gestalteten Gästeräumlichkeiten von „Die Presse“. René Gruber wird uns dort willkommen heißen und uns neue digitale Möglichkeiten des Verlags präsentieren. Susanna Janovsky\, Head of Corporate Communications bei DORDA\, wird uns dabei Einblicke in die professionelle Umsetzung ihrer Podcasts gewähren\, erläutern\, welche Anwälte sie für das Projekt begeistern konnte und welche Aufmerksamkeit sie damit erlangt hat. \nNeben Best Practices Beispielen und Erfolgsgeschichten aus ihrer eigenen Arbeits-Praxis werden auch Antworten auf folgende Fragen deutlich: \n\nWie können Podcasts genutzt werden\, um die Sichtbarkeit einer Kanzlei zu erhöhen?\nLässt sich darin tatsächlich die Expertise von Anwälten präsentieren?\nSind Podcasts geeignet um eine engere Bindung zu Mandanten aufzubauen?\n\nWir sind schon sehr gespannt auf diesen Vortrag und freuen uns darauf\, mit Euch lieben Legal Marketeers ein feines Frühstück zu genießen\, zu diskutieren und uns auszutauschen. \nDatum: 11. April 2024Uhrzeit: 8.30-10.30Ort: Hainburger Straße 33\, 1030 Vienna \nWir freuen uns darauf\, Euch bei dieser spannenden und informativen Veranstaltung zu begrüßen. \nDie Anzahl der Teilnehmer ist limitiert. Deshalb jetzt gleich anmelden und Platz sichern! ✅ \n			\n				Hier anmelden!
URL:https://www.legalmarketingprofessionals.com/event/2024_presse_wien1/
LOCATION:Über uns\, Hainburger Straße 33\, Wien\, 1030\, Österreich
ATTACH;FMTTYPE=image/gif:https://www.legalmarketingprofessionals.com/wp-content/uploads/2024/02/2024-Wien_Presse_Podcast-1.gif
ORGANIZER;CN="LMP Austria":MAILTO:events@legalmarketingprofessionals.com
END:VEVENT
BEGIN:VEVENT
DTSTART;TZID=Europe/Vienna:20240418T083000
DTEND;TZID=Europe/Vienna:20240418T103000
DTSTAMP:20260422T040945
CREATED:20240305T112937Z
LAST-MODIFIED:20240324T193557Z
UID:1324-1713429000-1713436200@www.legalmarketingprofessionals.com
SUMMARY:LMP Breakfast München – Kanzlei-Websites: Mehr als nur der erste Eindruck
DESCRIPTION:🌍 Kanzlei-Websites: Mehr als nur der erste Eindruck \nUm gefunden zu werden\, sind ansprechende und effektive Websites für Anwaltskanzleien von großer Bedeutung. Doch welche Elemente sollten auf einer innovativen Kanzleiwebsite unbedingt vorhanden sein und welche Funktionen sind für eine erfolgreiche Online-Präsenz unerlässlich? \nWer mehr darüber erfahren möchte\, ist herzlich zum nächsten Legal Marketing Breakfast in München eingeladen! \n🗓 Datum: Donnerstag\, 18. April 2024🕰 Uhrzeit: 8.30-10.30🥐 Ort: Bar Valentin\, Im Innenhof\, Pfisterstraße 9 + 11\, 80331 München \n👤 Unser Gastspeaker Tim Nesemann\, Head of Marketing & Communications der Kanzlei GvW Graf von Westphalen\, wird zeigen\, dass eine Kanzlei-Website nicht nur die Visitenkarte nach außen sein sollte\, sondern ein zentraler Kanal für alle Marketing- und Kommunikationsmaßnahmen – immer mit dem Fokus auf eine erfolgreiche Akquise und ein effektives Recruiting. \n🤝 Im Anschluss gibt es wie immer die Möglichkeit\, gleich vor Ort noch Fragen zu stellen\, Best Practices mit anderen Legal Marketers zu diskutieren und wertvolle Kontakte zu knüpfen. \n🥯 Wir laden Euch herzlichst dazu ein\, an diesem inspirierenden Event teilzunehmen und das Wissen über innovative Kanzlei-Websites auf den neuesten Stand zu bringen! \n▪️-▪️-▪️ \nDiese Veranstaltung richtet sich ausschließlich an Mitarbeiter*innen aus den Bereichen Legal Marketing und Business Development\, sowie Jurist*innen mit besonderer Affinität zum Marketing. \nDie Anzahl der Teilnehmer*innen ist limitiert. Deshalb jetzt gleich anmelden und Platz sichern! ✅ \nLMP-Mitglieder bekommen den Direkt-Link für die vollständige Foto-Galerie der jeweiligen Veranstaltung und werden laufend über aktuelle Events informiert. Hier geht’s zum Mitgliedsformular. \n			\n				Hier anmelden!
URL:https://www.legalmarketingprofessionals.com/event/2024_lmp_muenchen/
LOCATION:Bar Valentin\, Im Innenhof\, Pfisterstraße 9 + 11\, München\, Bayern\, 80331
ATTACH;FMTTYPE=image/png:https://www.legalmarketingprofessionals.com/wp-content/uploads/2024/03/LMP-Event-Muenchen-Nesemann.png.png
ORGANIZER;CN="LMP Germany":MAILTO:events@legalmarketingprofessionals.com
END:VEVENT
BEGIN:VEVENT
DTSTART;TZID=Europe/Vienna:20240426T083000
DTEND;TZID=Europe/Vienna:20240426T103000
DTSTAMP:20260422T040945
CREATED:20240312T084609Z
LAST-MODIFIED:20240423T091612Z
UID:1351-1714120200-1714127400@www.legalmarketingprofessionals.com
SUMMARY:LMP Breakfast Hamburg – Submissions: Dos and Don'ts. Ein Ausblick in die Zukunft.
DESCRIPTION:💫 Wie können Kanzleien Submissions meistern?Und was bringt die Zukunft für Rechtsanwälte und LegalDirectories? \nWir widmen uns diesem Thema\, das aktueller denn je ist\, bei unserem Legal Marketing Breakfast in einer fantastischen Location in Hamburg: \n🗓 Freitag\, 26. April 2024 🕰 8.30-10.30 Uhr🥐 WISSELING HIGH END\, Große Bleichen 34\, im ersten Obergeschoss\, Hamburg \n📝Hier gleich anmelden: https://lnkd.in/e9weJN9z \nUnser Event findet in Kooperation mit dem JUVE Verlag statt\, und wir freuen uns besonders\, dass wir neben Dr. Raffael Büchi auch Jörn Poppelbaum\, den Geschäftsführer und Chefredakteur von JUVE\, bei uns haben werden. Jörn wird aus der Perspektive des Verlages berichten und uns wertvolle Einblicke in die tägliche Arbeit und Herausforderungen der JUVE Redaktion geben. \nRaffael\, ein erfahrener Rechtsanwalt und Spezialist für BusinessDevelopment & KnowledgeManagement\, bringt jahrelange Erfahrung mit Submissions mit und wird uns erzählen\, was eine erfolgreiche Submission auszeichnet und wie man den Prozess effizient und wirkungsvoll gestalten kann. \nEuch erwarten wertvolle Einblicke und Tipps: ⭐️ Wie können Kanzleien ihre Submission-Qualität verbessern?⭐️ Welche strategischen Überlegungen sind zu beachten?⭐️ Was sind die häufigsten Fehler in Submissions?⭐️ Wie können Kanzleien ihren Arbeitsaufwand reduzieren und Prozesse effizient gestalten? \n🥯 Wir laden Euch herzlichst dazu ein\, an diesem Event teilzunehmen um Euer Wissen über Submissions zu vertiefen und auf den neuesten Stand zu bringen!
URL:https://www.legalmarketingprofessionals.com/event/2024_lmp_hamburg/
ATTACH;FMTTYPE=image/png:https://www.legalmarketingprofessionals.com/wp-content/uploads/2024/03/LMP-Hamburg-260424.png
ORGANIZER;CN="LMP Germany":MAILTO:events@legalmarketingprofessionals.com
END:VEVENT
END:VCALENDAR