BEGIN:VCALENDAR
VERSION:2.0
PRODID:-//Legal Marketing Professionals - ECPv6.15.20//NONSGML v1.0//EN
CALSCALE:GREGORIAN
METHOD:PUBLISH
X-ORIGINAL-URL:https://www.legalmarketingprofessionals.com
X-WR-CALDESC:Veranstaltungen für Legal Marketing Professionals
REFRESH-INTERVAL;VALUE=DURATION:PT1H
X-Robots-Tag:noindex
X-PUBLISHED-TTL:PT1H
BEGIN:VTIMEZONE
TZID:Europe/Vienna
BEGIN:DAYLIGHT
TZOFFSETFROM:+0100
TZOFFSETTO:+0200
TZNAME:CEST
DTSTART:20230326T010000
END:DAYLIGHT
BEGIN:STANDARD
TZOFFSETFROM:+0200
TZOFFSETTO:+0100
TZNAME:CET
DTSTART:20231029T010000
END:STANDARD
BEGIN:DAYLIGHT
TZOFFSETFROM:+0100
TZOFFSETTO:+0200
TZNAME:CEST
DTSTART:20240331T010000
END:DAYLIGHT
BEGIN:STANDARD
TZOFFSETFROM:+0200
TZOFFSETTO:+0100
TZNAME:CET
DTSTART:20241027T010000
END:STANDARD
BEGIN:DAYLIGHT
TZOFFSETFROM:+0100
TZOFFSETTO:+0200
TZNAME:CEST
DTSTART:20250330T010000
END:DAYLIGHT
BEGIN:STANDARD
TZOFFSETFROM:+0200
TZOFFSETTO:+0100
TZNAME:CET
DTSTART:20251026T010000
END:STANDARD
END:VTIMEZONE
BEGIN:VEVENT
DTSTART;TZID=Europe/Vienna:20240314T083000
DTEND;TZID=Europe/Vienna:20240314T103000
DTSTAMP:20260422T055512
CREATED:20240206T111225Z
LAST-MODIFIED:20240828T111625Z
UID:1280-1710405000-1710412200@www.legalmarketingprofessionals.com
SUMMARY:LMP Breakfast Frankfurt - Proaktives Business Development: Die Dentons Erfolgsformel!
DESCRIPTION:Hier anmelden!\n			\n				\n				\n				\n				\n				Proaktives Business Development – wie geht das? Die Denton’s Erfolgsformel. \n In Kanzleien ist es eine zentrale strategische Aufgabe des Business Developments\, sich auf dem hart umkämpften Markt abzuheben\, neue Mandanten zu akquirieren und bestehende Beziehungen zu intensivieren. Während diese Aufgabe häufig in den persönlichen Verantwortungsbereich der Partner fällt\, haben einige Kanzleien bereits spezialisierte Support-Teams etabliert\, um diese Prozesse weiter zu professionalisieren. \nEin leuchtendes Beispiel hierfür ist die Kanzlei Dentons\, die in diesem Bereich besonders fortschrittliche Strategien und Strukturen implementiert hat. \nWir freuen uns sehr bei unserem LMP- Breakfast in Frankfurt\, Philip Kovačević\, den Head of Business Development von Dentons als unseren Gastspeaker zu begrüßen. Dieses Frühstück wird sich ganz dem Thema widmen\, wie Dentons Business Development neu definiert und welche innovativen Strategien und Methoden dabei eingesetzt werden. \nDer Fokus liegt darauf\, wie Dentons Business Development als integralen Bestandteil der Kanzleiarbeit etabliert hat\, und wie ihre BD Mitarbeiter durch ein spezielles Ausbildungsprogramm unterstützt und gefördert werden. Unser Gastredner wird beleuchten\, wie dieses Programm konzipiert ist\, um sowohl die Geschäftsentwicklung als auch das Client Development zu stärken und wie es Professionals ermöglicht\, sich in diesen Bereichen kontinuierlich weiterzuentwickeln \nDieser Impulstalk bietet nicht nur Einblicke in die erfolgreichen Strategien von Dentons\, sondern auch die Gelegenheit\, direkt von einem führenden Experten zu lernen und sich mit anderen Marketeers. \nVeranstaltungsdetails: \nDatum: 14. März 2024Uhrzeit: 8.30-10.30Ort: Frankfurt\, Herr Franz\, Frankfurter PresseClub e.V. – Restaurant Herr Franz  in der Ulmenstraße 20 in 60325 Frankfurt am Main. \nWir freuen uns darauf\, Euch bei dieser spannenden und informativen Veranstaltung zu begrüßen. \nDie Anzahl der Teilnehmer ist limitiert. Deshalb jetzt gleich anmelden und Platz sichern! ✅ \n			\n				Hier anmelden!
URL:https://www.legalmarketingprofessionals.com/event/2024_juve_wien-2/
LOCATION:Harvey´s\, Bornheimer Landstr. 64\, Frankfurt am Main\, 60325\, Deutschland
ATTACH;FMTTYPE=image/png:https://www.legalmarketingprofessionals.com/wp-content/uploads/2024/02/03FRA_LinkedIn_Event.png
ORGANIZER;CN="LMP Germany":MAILTO:events@legalmarketingprofessionals.com
END:VEVENT
END:VCALENDAR