BEGIN:VCALENDAR
VERSION:2.0
PRODID:-//Legal Marketing Professionals - ECPv6.15.20//NONSGML v1.0//EN
CALSCALE:GREGORIAN
METHOD:PUBLISH
X-WR-CALNAME:Legal Marketing Professionals
X-ORIGINAL-URL:https://www.legalmarketingprofessionals.com
X-WR-CALDESC:Veranstaltungen für Legal Marketing Professionals
REFRESH-INTERVAL;VALUE=DURATION:PT1H
X-Robots-Tag:noindex
X-PUBLISHED-TTL:PT1H
BEGIN:VTIMEZONE
TZID:Europe/Vienna
BEGIN:DAYLIGHT
TZOFFSETFROM:+0100
TZOFFSETTO:+0200
TZNAME:CEST
DTSTART:20220327T010000
END:DAYLIGHT
BEGIN:STANDARD
TZOFFSETFROM:+0200
TZOFFSETTO:+0100
TZNAME:CET
DTSTART:20221030T010000
END:STANDARD
BEGIN:DAYLIGHT
TZOFFSETFROM:+0100
TZOFFSETTO:+0200
TZNAME:CEST
DTSTART:20230326T010000
END:DAYLIGHT
BEGIN:STANDARD
TZOFFSETFROM:+0200
TZOFFSETTO:+0100
TZNAME:CET
DTSTART:20231029T010000
END:STANDARD
BEGIN:DAYLIGHT
TZOFFSETFROM:+0100
TZOFFSETTO:+0200
TZNAME:CEST
DTSTART:20240331T010000
END:DAYLIGHT
BEGIN:STANDARD
TZOFFSETFROM:+0200
TZOFFSETTO:+0100
TZNAME:CET
DTSTART:20241027T010000
END:STANDARD
END:VTIMEZONE
BEGIN:VEVENT
DTSTART;TZID=Europe/Vienna:20230913T083000
DTEND;TZID=Europe/Vienna:20230913T103000
DTSTAMP:20260422T153813
CREATED:20230807T124724Z
LAST-MODIFIED:20230911T112039Z
UID:1001-1694593800-1694601000@www.legalmarketingprofessionals.com
SUMMARY:LMP Breakfast - Submissions: Dos and Dont's ein Blick in die Zukunft
DESCRIPTION:Submissions gehören zum Alltag vieler Kanzleien. Jeder will das Rennen um die besten Rankings gewinnen. Doch wie geht das? \n– Wie können Kanzleien ihre Submissions-Qualität verbessern?– Was sind die wichtigsten strategischen Überlegungen für Kanzleien bei der Einreichung von Submissions?– Was sind die häufigsten Fehler bei der Einreichung von Submissions?– Wie können Kanzleien den Submission-Aufwand effizient reduzieren? \nBei diesem Breakfast Talk gibt es wertvolle Tipps & Tricks zu Legal Directories\, Submissions & Co von Raffael Büchi. Raffael ist Rechtsanwalt und Experte für Business Development & Knowledge Management in Anwaltskanzleien. \nGemeinsam mit JUVE Verlag für juristische Information GmbH laden wir\, die Legal Marketing Professionals herzlich zu unserem Legal Marketing Breakfast in München ein! \nDie Anzahl der Teilnehmer ist limitiert. Jetzt gleich über LinkedIn unter anmelden und Platz sichern. \n			\n			\n				\n				\n				\n				\n			\n				\n				\n				\n				\n				\n				\n				Hier anmelden!
URL:https://www.legalmarketingprofessionals.com/event/save-the-date-muenchen/
LOCATION:Bar Valentin\, Im Innenhof\, Pfisterstraße 9 + 11\, München\, Bayern\, 80331
ATTACH;FMTTYPE=image/png:https://www.legalmarketingprofessionals.com/wp-content/uploads/2023/08/1920-1080-max.png
END:VEVENT
BEGIN:VEVENT
DTSTART;TZID=Europe/Vienna:20230921T083000
DTEND;TZID=Europe/Vienna:20230921T103000
DTSTAMP:20260422T153813
CREATED:20230807T124803Z
LAST-MODIFIED:20230911T112249Z
UID:1003-1695285000-1695292200@www.legalmarketingprofessionals.com
SUMMARY:LMP Breakfast - Innovation als Erfolgsfaktor: Strategien einer Top Tier Kanzlei
DESCRIPTION:Es vergeht kaum ein Tag ohne Schlagzeilen zu Gen-AI oder Legal Tech und den vielen Herausforderungen des Rechtsmarkts. Einer Top Tier-Kanzlei ist der Wandel und die Transformation besonders gut gelungen\, sei es bei Themen wie Legal Operations & Legal Tech\, ESG\, Lieferkettensorgfaltspflichtengesetz oder auch zu Metaverse & Web3. Gleiss Lutz konnte sich bei all diesen Themen an der Marktspitze positionieren. \nEin Innovationstreiber der Kanzlei ist dabei das marktbekannte und mehrfach ausgezeichnete Legal Operations & Legal Tech-Team\, das seit vielen Jahren von Marc Geiger geleitet wird. Er gilt mittlerweile als Pionier und Vordenker in der Kanzleiwelt und ist regelmäßig Keynotespeaker. \nWas seine Mission ist\, wie er die Kanzlei zu Innovationen (mit) antreibt und sogar bis ins Metaverse brachte\, warum bei Digital-Themen eine enge Verzahnung zu Marketing & Business Development unerlässlich ist\, wird er uns beim nächsten Legal Marketing Breakfast in Frankfurt berichten. \nGemeinsam mit JUVE laden wir\, die Legal Marketing Professionals herzlich zu unserem Legal Marketing Breakfast nach Frankfurt ein! \nDie Anzahl der Teilnehmer ist limitiert. Jetzt gleich über LinkedIn anmelden und Platz sichern. \n			\n			\n				\n				\n				\n				\n			\n				\n				\n				\n				\n				\n				\n				Hier anmelden!
URL:https://www.legalmarketingprofessionals.com/event/save-the-date-frankfurt/
LOCATION:Frankfurt\, Restaurant Herr Franz\, Ulmenstr. 20\, Frankfurt\, 60325\, Deutschland
ATTACH;FMTTYPE=image/png:https://www.legalmarketingprofessionals.com/wp-content/uploads/2023/08/LMP-FRA-Event-2109.png
END:VEVENT
END:VCALENDAR