BEGIN:VCALENDAR
VERSION:2.0
PRODID:-//Legal Marketing Professionals - ECPv6.15.20//NONSGML v1.0//EN
CALSCALE:GREGORIAN
METHOD:PUBLISH
X-WR-CALNAME:Legal Marketing Professionals
X-ORIGINAL-URL:https://www.legalmarketingprofessionals.com
X-WR-CALDESC:Veranstaltungen für Legal Marketing Professionals
REFRESH-INTERVAL;VALUE=DURATION:PT1H
X-Robots-Tag:noindex
X-PUBLISHED-TTL:PT1H
BEGIN:VTIMEZONE
TZID:Europe/Vienna
BEGIN:DAYLIGHT
TZOFFSETFROM:+0100
TZOFFSETTO:+0200
TZNAME:CEST
DTSTART:20240331T010000
END:DAYLIGHT
BEGIN:STANDARD
TZOFFSETFROM:+0200
TZOFFSETTO:+0100
TZNAME:CET
DTSTART:20241027T010000
END:STANDARD
BEGIN:DAYLIGHT
TZOFFSETFROM:+0100
TZOFFSETTO:+0200
TZNAME:CEST
DTSTART:20250330T010000
END:DAYLIGHT
BEGIN:STANDARD
TZOFFSETFROM:+0200
TZOFFSETTO:+0100
TZNAME:CET
DTSTART:20251026T010000
END:STANDARD
BEGIN:DAYLIGHT
TZOFFSETFROM:+0100
TZOFFSETTO:+0200
TZNAME:CEST
DTSTART:20260329T010000
END:DAYLIGHT
BEGIN:STANDARD
TZOFFSETFROM:+0200
TZOFFSETTO:+0100
TZNAME:CET
DTSTART:20261025T010000
END:STANDARD
END:VTIMEZONE
BEGIN:VEVENT
DTSTART;TZID=Europe/Vienna:20251016T083000
DTEND;TZID=Europe/Vienna:20251016T103000
DTSTAMP:20260421T014437
CREATED:20250828T145020Z
LAST-MODIFIED:20250924T123104Z
UID:4452-1760603400-1760610600@www.legalmarketingprofessionals.com
SUMMARY:LMP Breakfast Hamburg – Die perfekte JUVE-Submission: Dos and Don‘ts
DESCRIPTION:📣 LMP-Breakfast Hamburg\nDie perfekte JUVE-Submission – Dos and Don‘ts \n📅 Datum:  16.10.2025\n🕣 Uhrzeit: 8:30-10:30 Uhr\n📍 Ort: Restaurant Portolino\, Alsterufer 2\, 20354 Hamburg\n👉 Anmeldung: HIER \nWas macht eine starke JUVE-Submission aus – und was sollte man besser vermeiden? Diese Fragen klären wir bei unserem nächsten LMP-Breakfast im schönen Hamburg – und zwar mit einem ganz besonderen Gast: Norbert Parzinger\, Fachredakteur und Leiter des JUVE Handbuch Wirtschaftskanzleien. \nBei Kaffee und Franzbrötchen gibt Norbert praxisnahe Einblicke in die redaktionelle Arbeit bei JUVE und teilt mit uns:\n🔹 Was eine überzeugende Submission wirklich braucht\n🔹 Typische Fehler – und wie man sie vermeidet\n🔹 Praktische Tipps direkt aus der Redaktion \nTauscht euch in entspannter Atmosphäre mit anderen Kolleg:innen aus und nehmt wertvolle Impulse für eure nächste JUVE-Submission mit. \nGemeinsam mit unserem Kooperationspartner JUVE freuen wir uns auf eure Teilnahme und einen spannenden Austausch! \n▪️-▪️-▪️ \nDiese Veranstaltung richtet sich ausschließlich an Mitarbeiter:innen aus den Bereichen Legal Marketing und Business Development von Rechtsanwaltskanzleien sowie an Jurist:innen mit besonderer Affinität zum Marketing. \nDie Anzahl der Teilnehmer:innen ist limitiert. Deshalb jetzt gleich anmelden und Platz sichern! ✅
URL:https://www.legalmarketingprofessionals.com/event/lmp-breakfast-hamburg-die-perfekte-juve-submission-dos-and-donts/
LOCATION:Restaurant Portolino\, Alsterufer 2\, 20354 Hamburg\, Alsterufer 2\, Hamburg\, Hambugr\, 20354\, Germany
ATTACH;FMTTYPE=image/png:https://www.legalmarketingprofessionals.com/wp-content/uploads/2025/08/LMP-HAM-Die-perfekte-JUVE-Submission-Event.png
END:VEVENT
END:VCALENDAR