BEGIN:VCALENDAR
VERSION:2.0
PRODID:-//Legal Marketing Professionals - ECPv6.15.20//NONSGML v1.0//EN
CALSCALE:GREGORIAN
METHOD:PUBLISH
X-WR-CALNAME:Legal Marketing Professionals
X-ORIGINAL-URL:https://www.legalmarketingprofessionals.com
X-WR-CALDESC:Veranstaltungen für Legal Marketing Professionals
REFRESH-INTERVAL;VALUE=DURATION:PT1H
X-Robots-Tag:noindex
X-PUBLISHED-TTL:PT1H
BEGIN:VTIMEZONE
TZID:Europe/Vienna
BEGIN:DAYLIGHT
TZOFFSETFROM:+0100
TZOFFSETTO:+0200
TZNAME:CEST
DTSTART:20240331T010000
END:DAYLIGHT
BEGIN:STANDARD
TZOFFSETFROM:+0200
TZOFFSETTO:+0100
TZNAME:CET
DTSTART:20241027T010000
END:STANDARD
BEGIN:DAYLIGHT
TZOFFSETFROM:+0100
TZOFFSETTO:+0200
TZNAME:CEST
DTSTART:20250330T010000
END:DAYLIGHT
BEGIN:STANDARD
TZOFFSETFROM:+0200
TZOFFSETTO:+0100
TZNAME:CET
DTSTART:20251026T010000
END:STANDARD
BEGIN:DAYLIGHT
TZOFFSETFROM:+0100
TZOFFSETTO:+0200
TZNAME:CEST
DTSTART:20260329T010000
END:DAYLIGHT
BEGIN:STANDARD
TZOFFSETFROM:+0200
TZOFFSETTO:+0100
TZNAME:CET
DTSTART:20261025T010000
END:STANDARD
END:VTIMEZONE
BEGIN:VEVENT
DTSTART;TZID=Europe/Vienna:20250904T083000
DTEND;TZID=Europe/Vienna:20250904T103000
DTSTAMP:20260421T033750
CREATED:20250714T091536Z
LAST-MODIFIED:20250827T133901Z
UID:4416-1756974600-1756981800@www.legalmarketingprofessionals.com
SUMMARY:LMP Breakfast Frankfurt - Marketingdaten im Griff: Prozesse\, Tools & Best Practices
DESCRIPTION:📣 LMP Breakfast Frankfurt – \nMarketingdaten im Griff: Prozesse\, Tools & Best Practices \n📅 Datum: Do\, 4. September 2025\n🕣 Uhrzeit: 8:30–10:30 Uhr\n📍 Ort: Harveys\, Frankfurt\n👉 Anmeldung: HIER! \nImmer mehr Kanzleien investieren in datengetriebenes Marketing – doch wie lassen sich die richtigen Informationen systematisch erfassen\, zentral verwalten und sinnvoll nutzen\, um langfristig erfolgreich zu sein? \nKlar ist: Wer Rankings\, Submissions und Kampagnen effektiv gestalten will\, braucht strukturierte Daten. \nAber:\n📌 Welche Daten sind überhaupt relevant?\n📌 Wer sollte sie wann erfassen?\n📌 Wie bleiben diese Daten aktuell?\n📌 Und welche Tools & Prozesse helfen wirklich weiter?\n\nFür dieses Thema konnten wir Nadine Ackermann\, Head of Business Development\, Kommunikation & Marketing bei POELLATH gewinnen. Sie zeigt uns\, warum Daten erst dann echten Mehrwert bieten\, wenn sie in gelebte Workflows eingebettet sind. Im Gespräch mit Gina-Maria Tondolo spricht sie über Potenziale\, Prozesse\, geeignete Bewertungskriterien und häufige Stolpersteine. \nWer Daten und Prozesse im Kanzleimarketing gut einsetzen will – von der Zielgruppenansprache über effektive Submissions bis hin zum besseren Reporting – findet hier praxisnahe Einblicke und Lösungsansätze. \n▪️-▪️-▪️ \nDiese Veranstaltung richtet sich ausschließlich an Mitarbeiter*innen aus den Bereichen Legal Marketing und Business Development von Rechtsanwaltskanzleien sowie an Jurist*innen mit besonderer Affinität zum Marketing. \nDie Anzahl der Teilnehmer*innen ist limitiert. Deshalb jetzt gleich anmelden und Platz sichern! ✅
URL:https://www.legalmarketingprofessionals.com/event/lmp-breakfast-frankfurt-marketingdaten-im-griff-prozesse-tools-best-practices/
LOCATION:Harvey´s\, Bornheimer Landstr. 64\, Frankfurt am Main\, 60325\, Deutschland
ATTACH;FMTTYPE=image/png:https://www.legalmarketingprofessionals.com/wp-content/uploads/2025/07/LMP-Frankfurt-040925-1.png
ORGANIZER;CN="LMP Germany":MAILTO:events@legalmarketingprofessionals.com
END:VEVENT
END:VCALENDAR