BEGIN:VCALENDAR
VERSION:2.0
PRODID:-//Legal Marketing Professionals - ECPv6.15.20//NONSGML v1.0//EN
CALSCALE:GREGORIAN
METHOD:PUBLISH
X-WR-CALNAME:Legal Marketing Professionals
X-ORIGINAL-URL:https://www.legalmarketingprofessionals.com
X-WR-CALDESC:Veranstaltungen für Legal Marketing Professionals
REFRESH-INTERVAL;VALUE=DURATION:PT1H
X-Robots-Tag:noindex
X-PUBLISHED-TTL:PT1H
BEGIN:VTIMEZONE
TZID:Europe/Vienna
BEGIN:DAYLIGHT
TZOFFSETFROM:+0100
TZOFFSETTO:+0200
TZNAME:CEST
DTSTART:20230326T010000
END:DAYLIGHT
BEGIN:STANDARD
TZOFFSETFROM:+0200
TZOFFSETTO:+0100
TZNAME:CET
DTSTART:20231029T010000
END:STANDARD
BEGIN:DAYLIGHT
TZOFFSETFROM:+0100
TZOFFSETTO:+0200
TZNAME:CEST
DTSTART:20240331T010000
END:DAYLIGHT
BEGIN:STANDARD
TZOFFSETFROM:+0200
TZOFFSETTO:+0100
TZNAME:CET
DTSTART:20241027T010000
END:STANDARD
BEGIN:DAYLIGHT
TZOFFSETFROM:+0100
TZOFFSETTO:+0200
TZNAME:CEST
DTSTART:20250330T010000
END:DAYLIGHT
BEGIN:STANDARD
TZOFFSETFROM:+0200
TZOFFSETTO:+0100
TZNAME:CET
DTSTART:20251026T010000
END:STANDARD
END:VTIMEZONE
BEGIN:VEVENT
DTSTART;TZID=Europe/Vienna:20241114T083000
DTEND;TZID=Europe/Vienna:20241114T113000
DTSTAMP:20260421T184356
CREATED:20240909T125441Z
LAST-MODIFIED:20241031T113509Z
UID:2761-1731573000-1731583800@www.legalmarketingprofessionals.com
SUMMARY:LMP LinkedIn Awards 2024
DESCRIPTION:Gleich anmelden!\n			\n				\n				\n				\n				\n				🌟 Vorhang auf für die LMP LinkedIn Awards 2024!   \nAwardverleihung im Rahmen unseres Legal Marketing Breakfasts \n🗓 Datum: Donnerstag\, 14. November 2024🕰 Uhrzeit: 8.30-11.30 Uhr🥐 Ort: Die Presse\, Hainburgerstraße 33\, 1030 Wien \nJeder weiß: LinkedIn ist der unverzichtbare Kanal im Social Media Portfolio jeder Kanzlei. Auf LinkedIn erreicht man Klienten\, die eigenen Anwälte\, Mitarbeiter und Peers und die letzten Jahre haben gezeigt\, wie professionell und kreativ die „Legal Posts“ geworden ist. \nWir LMPS sind immer wieder beeindruckt von den spannenden Inhalten und den herausragenden Kampagnen der Kanzleien. Daher haben wir die LMP LinkedIn Awards gemeinsam mit unserem Kooperationspartner Die Presse ins Leben gerufen\, um die Personen zu feiern\, die hinter diesen großartigen Ergebnissen stehen – die Legal Marketers! \n▪️-▪️-▪️ \nWIR SUCHEN \n➡️ Euer bestes LinkedIn Posting ODER➡️ Eure best performende LinkedIn Kampagne der letzten 12 Monate \nin folgenden KATEGORIEN \n⭐️ Beste LinkedIn Kampagne⭐️⭐️ Best Ranking/Awards Post⭐️⭐️ Employer Branding Excellence⭐️⭐️ Original Story Telling⭐️⭐️ Best Corporate Influencer⭐️⭐️ Digital Growth Champion⭐️  \nEgal ob kleine Boutique oder Großkanzlei – jeder Beitrag ist willkommen! Es geht nicht um quantitative Spitzenwerte\, sondern darum\, ob eure Ziele erreicht oder sogar übertroffen wurden. Wir wollen eure größten LinkedIn-Erfolge der letzten 12 Monate sehen\, seien es beeindruckende Impressions\, hohe Interaktionsraten oder sogar generierte Leads oder Bewerbungen. \n🗓️ Einsendeschluss: 06.11.24📧 Einreichungen ausschließlich mittels Submission-Formular per E-Mail an: events@legalmarketingprofessionals.com \n👤 Unsere hochkarätige Jury – bestehend aus Legal Counsels\, Presse und Social Media ExpertInnen – wird eure Beiträge bewerten. Die Nominierten in jeder Kategorie werden am 08.11.24 auf LinkedIn und per E-Mail bekanntgegeben. \nWir freuen uns auf eure großartigen Beiträge und ein spannendes Awards-Breakfast mit euch!😊 \n			\n				Submission Guidelines\n			\n				Submission Formular
URL:https://www.legalmarketingprofessionals.com/event/lmp-linkedin-awards-2024/
LOCATION:Über uns\, Hainburger Straße 33\, Wien\, 1030\, Österreich
ATTACH;FMTTYPE=image/png:https://www.legalmarketingprofessionals.com/wp-content/uploads/2024/09/LinkedIn-Awards-2024.png
END:VEVENT
END:VCALENDAR