BEGIN:VCALENDAR
VERSION:2.0
PRODID:-//Legal Marketing Professionals - ECPv6.15.20//NONSGML v1.0//EN
CALSCALE:GREGORIAN
METHOD:PUBLISH
X-ORIGINAL-URL:https://www.legalmarketingprofessionals.com
X-WR-CALDESC:Veranstaltungen für Legal Marketing Professionals
REFRESH-INTERVAL;VALUE=DURATION:PT1H
X-Robots-Tag:noindex
X-PUBLISHED-TTL:PT1H
BEGIN:VTIMEZONE
TZID:Europe/Vienna
BEGIN:DAYLIGHT
TZOFFSETFROM:+0100
TZOFFSETTO:+0200
TZNAME:CEST
DTSTART:20230326T010000
END:DAYLIGHT
BEGIN:STANDARD
TZOFFSETFROM:+0200
TZOFFSETTO:+0100
TZNAME:CET
DTSTART:20231029T010000
END:STANDARD
BEGIN:DAYLIGHT
TZOFFSETFROM:+0100
TZOFFSETTO:+0200
TZNAME:CEST
DTSTART:20240331T010000
END:DAYLIGHT
BEGIN:STANDARD
TZOFFSETFROM:+0200
TZOFFSETTO:+0100
TZNAME:CET
DTSTART:20241027T010000
END:STANDARD
BEGIN:DAYLIGHT
TZOFFSETFROM:+0100
TZOFFSETTO:+0200
TZNAME:CEST
DTSTART:20250330T010000
END:DAYLIGHT
BEGIN:STANDARD
TZOFFSETFROM:+0200
TZOFFSETTO:+0100
TZNAME:CET
DTSTART:20251026T010000
END:STANDARD
END:VTIMEZONE
BEGIN:VEVENT
DTSTART;TZID=Europe/Vienna:20240924T083000
DTEND;TZID=Europe/Vienna:20240924T103000
DTSTAMP:20260421T214730
CREATED:20240828T140127Z
LAST-MODIFIED:20240828T140510Z
UID:2744-1727166600-1727173800@www.legalmarketingprofessionals.com
SUMMARY:LMP Breakfast Düsseldorf - JUVE Submissions 2025
DESCRIPTION:Hier anmelden!\n			\n				\n				\n				\n				\n				JUVE Submissions 2025! \nWir laden euch herzlich zu unserem exklusiven Frühstücksevent ein\, um die neuesten Entwicklungen rund um die JUVE Recherche 2025 zu diskutieren!  \nAuf dem Pressefrühling hat JUVE Verlag bereits angekündigt\, dass die Recherche im neuen Jahr neu strukturiert wird. Die Fragebögen werden auf mehrere Termine verteilt. Doch was bedeutet das für Euch und Eure Kanzlei? Mehr oder weniger Arbeit? Wo liegen die Vorteile und wo die Herausforderungen?  \nDatum: Dienstag\, 24.9.2024Uhrzeit: 8.30-10.30Ort: AGATA’s\, Kirchfeldstraße 59\, 40217 Düsseldorf \nWir freuen uns sehr\, dass Laura Bartels\, JUVE-Chefredakteurin und Leiterin des JUVE Handbuch Wirtschaftskanzleien\, sowie Jörn Poppelbaum\, Mitglied der JUVE-Geschäftsführung\, für alle Fragen zur Verfügung stehen.  \nNutzt die Gelegenheit\, wertvolle Einblicke aus erster Hand zu erhalten und euch mit anderen Kolleginnen und Kollegen auszutauschen. \nNach dem offiziellen Teil laden wir euch zu einem gemütlichen Frühstück ein.  \nMeldet euch gleich an\, um euren Platz zu sichern. Wir freuen uns auf eure Teilnahme und einen spannenden Austausch!  \n \n			\n				Hier anmelden!
URL:https://www.legalmarketingprofessionals.com/event/lmp-breakfast-duesseldorf/
LOCATION:AGATA’S\, Kirchfeldstraße 59\, Düsseldorf\, Westphalen\, 40217\, Deutschland
ATTACH;FMTTYPE=image/png:https://www.legalmarketingprofessionals.com/wp-content/uploads/2024/08/LMP-DueDo-JUVE.png
END:VEVENT
END:VCALENDAR