BEGIN:VCALENDAR
VERSION:2.0
PRODID:-//Legal Marketing Professionals - ECPv6.15.20//NONSGML v1.0//EN
CALSCALE:GREGORIAN
METHOD:PUBLISH
X-WR-CALNAME:Legal Marketing Professionals
X-ORIGINAL-URL:https://www.legalmarketingprofessionals.com
X-WR-CALDESC:Veranstaltungen für Legal Marketing Professionals
REFRESH-INTERVAL;VALUE=DURATION:PT1H
X-Robots-Tag:noindex
X-PUBLISHED-TTL:PT1H
BEGIN:VTIMEZONE
TZID:Europe/Vienna
BEGIN:DAYLIGHT
TZOFFSETFROM:+0100
TZOFFSETTO:+0200
TZNAME:CEST
DTSTART:20230326T010000
END:DAYLIGHT
BEGIN:STANDARD
TZOFFSETFROM:+0200
TZOFFSETTO:+0100
TZNAME:CET
DTSTART:20231029T010000
END:STANDARD
BEGIN:DAYLIGHT
TZOFFSETFROM:+0100
TZOFFSETTO:+0200
TZNAME:CEST
DTSTART:20240331T010000
END:DAYLIGHT
BEGIN:STANDARD
TZOFFSETFROM:+0200
TZOFFSETTO:+0100
TZNAME:CET
DTSTART:20241027T010000
END:STANDARD
BEGIN:DAYLIGHT
TZOFFSETFROM:+0100
TZOFFSETTO:+0200
TZNAME:CEST
DTSTART:20250330T010000
END:DAYLIGHT
BEGIN:STANDARD
TZOFFSETFROM:+0200
TZOFFSETTO:+0100
TZNAME:CET
DTSTART:20251026T010000
END:STANDARD
END:VTIMEZONE
BEGIN:VEVENT
DTSTART;TZID=Europe/Vienna:20240411T083000
DTEND;TZID=Europe/Vienna:20240411T103000
DTSTAMP:20260422T055158
CREATED:20240206T132243Z
LAST-MODIFIED:20240319T090451Z
UID:1291-1712824200-1712831400@www.legalmarketingprofessionals.com
SUMMARY:LMP Breakfast Wien - Anwälte on Air: Podcasts als Werkzeug für innovative Kanzleien
DESCRIPTION:Hier anmelden!\n			\n				\n				\n				\n				\n				Anwälte On Air: Podcasts als Werkzeug für innovative Kanzleien \nIn einer Zeit\, in der digitale Kommunikation immer wichtiger wird\, ist es entscheidend\, innovative Wege zu finden\, um mit potenziellen Mandanten in Kontakt zu treten und sie zu informieren. Podcasts ermöglichen es Fachwissen zu präsentieren\, Einblicke in aktuelle Rechtsfragen zu geben und die Kanzlei als kompetenten Ansprechpartner zu positionieren.  \nFür das Legal Marketing Breakfast am 11. April 2024 haben wir einen besonderen Ort gewählt: die frisch gestalteten Gästeräumlichkeiten von „Die Presse“. René Gruber wird uns dort willkommen heißen und uns neue digitale Möglichkeiten des Verlags präsentieren. Susanna Janovsky\, Head of Corporate Communications bei DORDA\, wird uns dabei Einblicke in die professionelle Umsetzung ihrer Podcasts gewähren\, erläutern\, welche Anwälte sie für das Projekt begeistern konnte und welche Aufmerksamkeit sie damit erlangt hat. \nNeben Best Practices Beispielen und Erfolgsgeschichten aus ihrer eigenen Arbeits-Praxis werden auch Antworten auf folgende Fragen deutlich: \n\nWie können Podcasts genutzt werden\, um die Sichtbarkeit einer Kanzlei zu erhöhen?\nLässt sich darin tatsächlich die Expertise von Anwälten präsentieren?\nSind Podcasts geeignet um eine engere Bindung zu Mandanten aufzubauen?\n\nWir sind schon sehr gespannt auf diesen Vortrag und freuen uns darauf\, mit Euch lieben Legal Marketeers ein feines Frühstück zu genießen\, zu diskutieren und uns auszutauschen. \nDatum: 11. April 2024Uhrzeit: 8.30-10.30Ort: Hainburger Straße 33\, 1030 Vienna \nWir freuen uns darauf\, Euch bei dieser spannenden und informativen Veranstaltung zu begrüßen. \nDie Anzahl der Teilnehmer ist limitiert. Deshalb jetzt gleich anmelden und Platz sichern! ✅ \n			\n				Hier anmelden!
URL:https://www.legalmarketingprofessionals.com/event/2024_presse_wien1/
LOCATION:Über uns\, Hainburger Straße 33\, Wien\, 1030\, Österreich
ATTACH;FMTTYPE=image/gif:https://www.legalmarketingprofessionals.com/wp-content/uploads/2024/02/2024-Wien_Presse_Podcast-1.gif
ORGANIZER;CN="LMP Austria":MAILTO:events@legalmarketingprofessionals.com
END:VEVENT
END:VCALENDAR