BEGIN:VCALENDAR
VERSION:2.0
PRODID:-//Legal Marketing Professionals - ECPv6.15.20//NONSGML v1.0//EN
CALSCALE:GREGORIAN
METHOD:PUBLISH
X-ORIGINAL-URL:https://www.legalmarketingprofessionals.com
X-WR-CALDESC:Veranstaltungen für Legal Marketing Professionals
REFRESH-INTERVAL;VALUE=DURATION:PT1H
X-Robots-Tag:noindex
X-PUBLISHED-TTL:PT1H
BEGIN:VTIMEZONE
TZID:Europe/Vienna
BEGIN:DAYLIGHT
TZOFFSETFROM:+0100
TZOFFSETTO:+0200
TZNAME:CEST
DTSTART:20230326T010000
END:DAYLIGHT
BEGIN:STANDARD
TZOFFSETFROM:+0200
TZOFFSETTO:+0100
TZNAME:CET
DTSTART:20231029T010000
END:STANDARD
BEGIN:DAYLIGHT
TZOFFSETFROM:+0100
TZOFFSETTO:+0200
TZNAME:CEST
DTSTART:20240331T010000
END:DAYLIGHT
BEGIN:STANDARD
TZOFFSETFROM:+0200
TZOFFSETTO:+0100
TZNAME:CET
DTSTART:20241027T010000
END:STANDARD
BEGIN:DAYLIGHT
TZOFFSETFROM:+0100
TZOFFSETTO:+0200
TZNAME:CEST
DTSTART:20250330T010000
END:DAYLIGHT
BEGIN:STANDARD
TZOFFSETFROM:+0200
TZOFFSETTO:+0100
TZNAME:CET
DTSTART:20251026T010000
END:STANDARD
END:VTIMEZONE
BEGIN:VEVENT
DTSTART;TZID=Europe/Vienna:20240213T083000
DTEND;TZID=Europe/Vienna:20240213T103000
DTSTAMP:20260422T092228
CREATED:20240125T095812Z
LAST-MODIFIED:20240125T102554Z
UID:1238-1707813000-1707820200@www.legalmarketingprofessionals.com
SUMMARY:LMP Breakfast Wien- Alles neu: Wechsel der JUVE Geschäftsführung in 2024
DESCRIPTION:Hier anmelden!\n			\n				\n				\n				\n				\n				🥐 Von Düsseldorf und Köln direkt nach Wien 🛬 📓Diesmal freuen wir uns riesig darüber\, ganz besondere Mitglieder der neuen Geschäftsleitung vom JUVE Verlag bei uns begrüßen zu dürfen! Co-JUVE Geschäftsführer Jörn Poppelbaum gibt uns spannende Einblicke hinter die Kulissen und beleuchtet dabei Schlüsselthemen wie die Bedeutung der Digitalisierung in der Medienbranche sowie die brandaktuelle Neuaufstellung von Geschäftsleitung und Chefredaktion.✍  🌟 Was genau dieser Wechsel an der JUVE-Spitze für Anwaltskanzleien und die Recherche in Österreich bedeutet\, erörtern wir im gemeinsamen Gespräch direkt vor Ort! 💬 \nWo genau? Marco Simonis in der Stubenbastei 10\, 1010 Wien \nWann beginnts? Am Dienstag den 13. Februar um 08:30 Uhr  \nDie Anzahl der Teilnehmer ist limitiert. Deshalb jetzt gleich anmelden und Platz sichern! ✅ \n			\n				Hier anmelden!
URL:https://www.legalmarketingprofessionals.com/event/2024_juve_wien/
LOCATION:Marco Simonis\, Dominikanerbastei 10/4\, Innere Stadt\, Wien\, 1010\, Österreich
ATTACH;FMTTYPE=image/png:https://www.legalmarketingprofessionals.com/wp-content/uploads/2024/01/LMP_VIE_13.png
ORGANIZER;CN="LMP Austria":MAILTO:i.brixler@lawrence.eu
END:VEVENT
END:VCALENDAR