BEGIN:VCALENDAR
VERSION:2.0
PRODID:-//Legal Marketing Professionals - ECPv6.15.20//NONSGML v1.0//EN
CALSCALE:GREGORIAN
METHOD:PUBLISH
X-ORIGINAL-URL:https://www.legalmarketingprofessionals.com
X-WR-CALDESC:Veranstaltungen für Legal Marketing Professionals
REFRESH-INTERVAL;VALUE=DURATION:PT1H
X-Robots-Tag:noindex
X-PUBLISHED-TTL:PT1H
BEGIN:VTIMEZONE
TZID:Europe/Vienna
BEGIN:DAYLIGHT
TZOFFSETFROM:+0100
TZOFFSETTO:+0200
TZNAME:CEST
DTSTART:20220327T010000
END:DAYLIGHT
BEGIN:STANDARD
TZOFFSETFROM:+0200
TZOFFSETTO:+0100
TZNAME:CET
DTSTART:20221030T010000
END:STANDARD
BEGIN:DAYLIGHT
TZOFFSETFROM:+0100
TZOFFSETTO:+0200
TZNAME:CEST
DTSTART:20230326T010000
END:DAYLIGHT
BEGIN:STANDARD
TZOFFSETFROM:+0200
TZOFFSETTO:+0100
TZNAME:CET
DTSTART:20231029T010000
END:STANDARD
BEGIN:DAYLIGHT
TZOFFSETFROM:+0100
TZOFFSETTO:+0200
TZNAME:CEST
DTSTART:20240331T010000
END:DAYLIGHT
BEGIN:STANDARD
TZOFFSETFROM:+0200
TZOFFSETTO:+0100
TZNAME:CET
DTSTART:20241027T010000
END:STANDARD
END:VTIMEZONE
BEGIN:VEVENT
DTSTART;TZID=Europe/Vienna:20230627T083000
DTEND;TZID=Europe/Vienna:20230627T103000
DTSTAMP:20260422T201337
CREATED:20230612T095636Z
LAST-MODIFIED:20230620T112953Z
UID:779-1687854600-1687861800@www.legalmarketingprofessionals.com
SUMMARY:LMP Breakfast - Vorreiter & Trendsetter: die zukunftsweisende Rechtsanwaltskanzlei von morgen
DESCRIPTION:In Zeiten von Spin-offs\, der COVID-19-Pandemie und wirtschaftlichen Krisen ist die Anpassungsfähigkeit von Unternehmen von entscheidender Bedeutung. Eine moderne Rechtsanwaltskanzlei muss mit diesen Herausforderungen nicht nur umgehen\, sondern darin auch Chancen für Wachstum und Innovation erkennen können. Wie PHH Rechtsanwält:innen diese umsetzt\, berichten euch Marlene Grabner\, PR & Marketing Managerin und Elisabeth Peneder\, Business Development Managerin. \nWir freuen uns auf eure Teilnahme! Die Anzahl der Teilnehmer ist limitiert. Registriert euch jetzt\, um Euren Platz zu sichern: https://www.linkedin.com/events/legalmarketingbreakfastz-rich7060855967692861441/ \n 
URL:https://www.legalmarketingprofessionals.com/event/lmp-breakfast-vorreiter-trendsetter-die-zukunftsweisende-rechtsanwaltskanzlei-von-morgen/
ATTACH;FMTTYPE=image/png:https://www.legalmarketingprofessionals.com/wp-content/uploads/2023/06/LMP-Austria1.png
END:VEVENT
END:VCALENDAR