BEGIN:VCALENDAR
VERSION:2.0
PRODID:-//Legal Marketing Professionals - ECPv6.15.20//NONSGML v1.0//EN
CALSCALE:GREGORIAN
METHOD:PUBLISH
X-ORIGINAL-URL:https://www.legalmarketingprofessionals.com
X-WR-CALDESC:Veranstaltungen für Legal Marketing Professionals
REFRESH-INTERVAL;VALUE=DURATION:PT1H
X-Robots-Tag:noindex
X-PUBLISHED-TTL:PT1H
BEGIN:VTIMEZONE
TZID:Europe/Vienna
BEGIN:DAYLIGHT
TZOFFSETFROM:+0100
TZOFFSETTO:+0200
TZNAME:CEST
DTSTART:20220327T010000
END:DAYLIGHT
BEGIN:STANDARD
TZOFFSETFROM:+0200
TZOFFSETTO:+0100
TZNAME:CET
DTSTART:20221030T010000
END:STANDARD
BEGIN:DAYLIGHT
TZOFFSETFROM:+0100
TZOFFSETTO:+0200
TZNAME:CEST
DTSTART:20230326T010000
END:DAYLIGHT
BEGIN:STANDARD
TZOFFSETFROM:+0200
TZOFFSETTO:+0100
TZNAME:CET
DTSTART:20231029T010000
END:STANDARD
BEGIN:DAYLIGHT
TZOFFSETFROM:+0100
TZOFFSETTO:+0200
TZNAME:CEST
DTSTART:20240331T010000
END:DAYLIGHT
BEGIN:STANDARD
TZOFFSETFROM:+0200
TZOFFSETTO:+0100
TZNAME:CET
DTSTART:20241027T010000
END:STANDARD
END:VTIMEZONE
BEGIN:VEVENT
DTSTART;TZID=Europe/Vienna:20230614T083000
DTEND;TZID=Europe/Vienna:20230614T103000
DTSTAMP:20260422T214359
CREATED:20230510T074002Z
LAST-MODIFIED:20230516T095159Z
UID:696-1686731400-1686738600@www.legalmarketingprofessionals.com
SUMMARY:LMP Breakfast - Pitching to Win: Dos and Dont's
DESCRIPTION:Pitchen ist ein wichtiger Bestandteil der Akquisition von Mandaten für Rechtsanwaltskanzleien und es gibt viele Herausforderungen\, die zu bewältigen sind\, um erfolgreich zu sein. \nAm 14. Juni laden wir zu unserem nächsten Legal Marketing Breakfast in Zürich ein\, bei dem wir uns auf das Thema „Pitching to Win“ konzentrieren . Folgende Punkte wird unser Host und BD Experte Raffael Büchi dabei beleuchten: \n\nWas sind die Herausforderungen\, die Kanzleien bei Pitches bewältigen müssen?\nWas zeichnet erfolgreiche Pitches aus? Erfolgsrezepte und Geheimnisse.\nWie läuft der Pitch-Prozess ab und welche Dos and Don’ts sollten in den verschiedenen Phasen beachtet werden?\nPitch Toolkit: Wir werden euch mit einem Pitch Werkzeugkasten ausstatten\, der jeder Kanzlei helfen wird\, erfolgreich zu pitchen.\n\nWir freuen uns auf eure Teilnahme! Die Anzahl der Teilnehmer ist limitiert. Registriert euch jetzt\, um Euren Platz zu sichern: https://www.linkedin.com/events/legalmarketingbreakfastz-rich7060855967692861441/
URL:https://www.legalmarketingprofessionals.com/event/lmp-breakfast-pitching-to-win-dos-and-donts/
LOCATION:Cabaret Voltaire\, Spiegelgasse 1\, Zürich\, 8001\, Schweiz
ATTACH;FMTTYPE=image/png:https://www.legalmarketingprofessionals.com/wp-content/uploads/2023/05/LMP_Schweiz.png
END:VEVENT
END:VCALENDAR