BEGIN:VCALENDAR
VERSION:2.0
PRODID:-//Legal Marketing Professionals - ECPv6.15.20//NONSGML v1.0//EN
CALSCALE:GREGORIAN
METHOD:PUBLISH
X-ORIGINAL-URL:https://www.legalmarketingprofessionals.com
X-WR-CALDESC:Veranstaltungen für Legal Marketing Professionals
REFRESH-INTERVAL;VALUE=DURATION:PT1H
X-Robots-Tag:noindex
X-PUBLISHED-TTL:PT1H
BEGIN:VTIMEZONE
TZID:Europe/Vienna
BEGIN:DAYLIGHT
TZOFFSETFROM:+0100
TZOFFSETTO:+0200
TZNAME:CEST
DTSTART:20220327T010000
END:DAYLIGHT
BEGIN:STANDARD
TZOFFSETFROM:+0200
TZOFFSETTO:+0100
TZNAME:CET
DTSTART:20221030T010000
END:STANDARD
BEGIN:DAYLIGHT
TZOFFSETFROM:+0100
TZOFFSETTO:+0200
TZNAME:CEST
DTSTART:20230326T010000
END:DAYLIGHT
BEGIN:STANDARD
TZOFFSETFROM:+0200
TZOFFSETTO:+0100
TZNAME:CET
DTSTART:20231029T010000
END:STANDARD
BEGIN:DAYLIGHT
TZOFFSETFROM:+0100
TZOFFSETTO:+0200
TZNAME:CEST
DTSTART:20240331T010000
END:DAYLIGHT
BEGIN:STANDARD
TZOFFSETFROM:+0200
TZOFFSETTO:+0100
TZNAME:CET
DTSTART:20241027T010000
END:STANDARD
END:VTIMEZONE
BEGIN:VEVENT
DTSTART;TZID=Europe/Vienna:20230601T083000
DTEND;TZID=Europe/Vienna:20230601T103000
DTSTAMP:20260422T214338
CREATED:20230502T122724Z
LAST-MODIFIED:20230511T175737Z
UID:671-1685608200-1685615400@www.legalmarketingprofessionals.com
SUMMARY:LMP Breakfast - Wie managt man einen Law Firm Brand Refresh
DESCRIPTION:Mit Boutique Kanzleien neue Sphären erobern! \nWie man sich als Boutique-Kanzlei positioniert\, die Rechtsbranche nebenbei aufwirbelt und welche Möglichkeiten & Challenges sich im Legal Marketing eröffnen? Darüber sprechen wir gemeinsam mit Inga Gernot Head of Marketing & Business Development und Crew Member bei ORBIT-Fund Boutique. \nZusammen mit JUVE Verlag für juristische Information GmbH laden wir\, die Legal Marketing Professionals herzlich zu unserem Legal Marketing Breakfast am 1. Juni 2023 in Berlin \nDie Anzahl der Teilnehmer ist limitiert. Jetzt gleich über LinkedIn anmelden und Platz sichern:\nhttps://www.linkedin.com/events/legalmarketingbreakfastberlin7062458548995170304/
URL:https://www.legalmarketingprofessionals.com/event/legal-marketing-breakfast/
LOCATION:A wonderful location in Munich City Center\, München\, Deutschland
ATTACH;FMTTYPE=image/png:https://www.legalmarketingprofessionals.com/wp-content/uploads/2023/05/LMP_Berlin.png
ORGANIZER;CN="LMP Germany":MAILTO:events@legalmarketingprofessionals.com
END:VEVENT
END:VCALENDAR