BEGIN:VCALENDAR
VERSION:2.0
PRODID:-//Legal Marketing Professionals - ECPv6.15.20//NONSGML v1.0//EN
CALSCALE:GREGORIAN
METHOD:PUBLISH
X-ORIGINAL-URL:https://www.legalmarketingprofessionals.com
X-WR-CALDESC:Veranstaltungen für Legal Marketing Professionals
REFRESH-INTERVAL;VALUE=DURATION:PT1H
X-Robots-Tag:noindex
X-PUBLISHED-TTL:PT1H
BEGIN:VTIMEZONE
TZID:Europe/Vienna
BEGIN:DAYLIGHT
TZOFFSETFROM:+0100
TZOFFSETTO:+0200
TZNAME:CEST
DTSTART:20220327T010000
END:DAYLIGHT
BEGIN:STANDARD
TZOFFSETFROM:+0200
TZOFFSETTO:+0100
TZNAME:CET
DTSTART:20221030T010000
END:STANDARD
BEGIN:DAYLIGHT
TZOFFSETFROM:+0100
TZOFFSETTO:+0200
TZNAME:CEST
DTSTART:20230326T010000
END:DAYLIGHT
BEGIN:STANDARD
TZOFFSETFROM:+0200
TZOFFSETTO:+0100
TZNAME:CET
DTSTART:20231029T010000
END:STANDARD
BEGIN:DAYLIGHT
TZOFFSETFROM:+0100
TZOFFSETTO:+0200
TZNAME:CEST
DTSTART:20240331T010000
END:DAYLIGHT
BEGIN:STANDARD
TZOFFSETFROM:+0200
TZOFFSETTO:+0100
TZNAME:CET
DTSTART:20241027T010000
END:STANDARD
END:VTIMEZONE
BEGIN:VEVENT
DTSTART;TZID=Europe/Vienna:20230523T083000
DTEND;TZID=Europe/Vienna:20230523T103000
DTSTAMP:20260422T231936
CREATED:20230502T094201Z
LAST-MODIFIED:20230510T072445Z
UID:630-1684830600-1684837800@www.legalmarketingprofessionals.com
SUMMARY:LMP Breakfast - Die Zukunft von Submissions
DESCRIPTION:Submissions gehören zum Alltag vieler Kanzleien. Jeder will das Rennen um die besten Rankings gewinnen. Doch wie geht das? \n\nWie können Kanzleien ihre Submissions-Qualität verbessern?\nWas sind die wichtigsten strategischen Überlegungen für Kanzleien bei der Einreichung von Submissions?\nWas sind die häufigsten Fehler bei der Einreichung von Submissions?\nWie können Kanzleien den Submission-Aufwand effizient reduzieren?\n\nBei diesem Breakfast Talk gibt es wertvolle Tipps & Tricks zu Legal Directories\, Submissions & Co von Raffael Büchi. Raffael ist Rechtsanwalt und Experte für Business Development & Knowledge Management in Anwaltskanzleien. \nGemeinsam mit JUVE Verlag für juristische Information GmbH laden wir\, die Legal Marketing Professionals herzlich zu unserem Legal Marketing Breakfast in Frankfurt ein! \nDie Anzahl der Teilnehmer ist limitiert. Jetzt gleich über LinkedIn anmelden und Platz sichern: https://www.linkedin.com/events/legalmarketingbreakfastfrankfur7061396139069087744/
URL:https://www.legalmarketingprofessionals.com/event/legal-marketing-breakfast-frankfurt/
LOCATION:Elaine’s Greenhouse\, Junghofstrasse 28\, Frankfurt\, 60311\, Deutschland
ATTACH;FMTTYPE=image/png:https://www.legalmarketingprofessionals.com/wp-content/uploads/2023/05/LMP_Frankfurt.png
ORGANIZER;CN="LMP Germany":MAILTO:events@legalmarketingprofessionals.com
END:VEVENT
END:VCALENDAR